Workbook

Sheet 1000+ GS
A1: Data extracted: True Achievements Xbox Sorted by Comp Time 6 June
Q2: EXCLUDES ALREADY COMPLETED TITLES
A3: COUNT | B3: GAME | C3: TRUEACHIEVEMENT SCORE | D3: GAMER SCORE | E3: RATIO | F3: GAMERS | G3: COMP % | H3: COMP TIME | I3: RATING | J3: COMPLETED? | K3: COUNT | L3: VALUE | M3: TIME EST. | N3: $ EST. | O3: $ EST. x COUNT | Q3: TOTAL VALUE – XBOX ONLY | S3: TOTAL VALUE – DOUBLE STACK | U3: TOTAL VALUE – DOUBLE STACK + ALREADY DONE
A4: 1 | B4: ARK: Survival Evolved | C4: 3174 | D4: 1500 | E4: 2.12 | F4: 134570 | G4: 9.7 | H4: 1-2 hours | I4: 3.2 | J4: Y | K4: =IF(J4="Y", 0, 1) -> 0 | L4: ='1000+ GS'!$D4*'1000+ GS'!$K4 -> 0 | M4: =IF(H4="0-1 hour", 0.5, 1.5)*K4 -> 0 | N4: 15 | O4: =N4*K4 -> 0 | Q4: =SUM(L4:L513) -> 520235 | S4: =Q4+Win10!N3 -> 646985 | U4: =S4+SUM(D4:D13,D30,D94,D460) -> 661945
A5: 2 | B5: Tracks - The Train Set Game | C5: 2109 | D5: 1500 | E5: 1.41 | F5: 66176 | G5: 8.9 | H5: 0-1 hour | I5: 2.8 | J5: Y | K5: =IF(J5="Y", 0, 1) -> 0 | L5: ='1000+ GS'!$D5*'1000+ GS'!$K5 -> 0 | M5: =IF(H5="0-1 hour", 0.5, 1.5)*K5 -> 0 | N5: 15 | O5: =N5*K5 -> 0 | U5: =U4-S4 -> 14960 | V5: Already completed
A6: 3 | B6: Surviving Mars | C6: 2129 | D6: 1500 | E6: 1.42 | F6: 53705 | G6: 6.6 | H6: 0-1 hour | I6: 3.2 | J6: Y | K6: =IF(J6="Y", 0, 1) -> 0 | L6: ='1000+ GS'!$D6*'1000+ GS'!$K6 -> 0 | M6: =IF(H6="0-1 hour", 0.5, 1.5)*K6 -> 0 | N6: 40 | O6: =N6*K6 -> 0 | Q6: ESTIMATED TIME (HOURS) | S6: ESTIMATED TIME (HOURS)
A7: 4 | B7: Fractured Minds | C7: 1023 | D7: 1000 | E7: 1.02 | F7: 81849 | G7: 85.4 | H7: 0-1 hour | I7: 2.7 | J7: Y | K7: =IF(J7="Y", 0, 1) -> 0 | L7: ='1000+ GS'!$D7*'1000+ GS'!$K7 -> 0 | M7: =IF(H7="0-1 hour", 0.5, 1.5)*K7 -> 0 | N7: 15 | O7: =N7*K7 -> 0 | Q7: =SUM(M4:M513) -> 482 | S7: =Q7+Win10!N6 -> 575
A8: 5 | B8: Gun Crazy | C8: 1014 | D8: 1000 | E8: 1.01 | F8: 4761 | G8: 85.4 | H8: 0-1 hour | I8: 2.4 | J8: Y | K8: =IF(J8="Y", 0, 1) -> 0 | L8: ='1000+ GS'!$D8*'1000+ GS'!$K8 -> 0 | M8: =IF(H8="0-1 hour", 0.5, 1.5)*K8 -> 0 | N8: 15 | O8: =N8*K8 -> 0
A9: 6 | B9: Truth or Lies | C9: 1063 | D9: 1000 | E9: 1.06 | F9: 8255 | G9: 63.8 | H9: 1-2 hours | I9: 1.4 | J9: Y | K9: =IF(J9="Y", 0, 1) -> 0 | L9: ='1000+ GS'!$D9*'1000+ GS'!$K9 -> 0 | M9: =IF(H9="0-1 hour", 0.5, 1.5)*K9 -> 0 | N9: 15 | O9: =N9*K9 -> 0 | Q9: AV. ACHIEVEMENTS A DAY | S9: AV. ACHIEVEMENTS A DAY
A10: 7 | B10: Old Man's Journey | C10: 1148 | D10: 1000 | E10: 1.15 | F10: 37501 | G10: 60.7 | H10: 1-2 hours | I10: 3.2 | J10: Y | K10: =IF(J10="Y", 0, 1) -> 0 | L10: ='1000+ GS'!$D10*'1000+ GS'!$K10 -> 0 | M10: =IF(H10="0-1 hour", 0.5, 1.5)*K10 -> 0 | N10: 15 | O10: =N10*K10 -> 0 | Q10: =Q4/31 -> 16781.774 | S10: =S4/31 -> 20870.484
A11: 8 | B11: Gone Home: Console Edition | C11: 1355 | D11: 1000 | E11: 1.36 | F11: 68136 | G11: 39.1 | H11: 1-2 hours | I11: 2.9 | J11: Y | K11: =IF(J11="Y", 0, 1) -> 0 | L11: ='1000+ GS'!$D11*'1000+ GS'!$K11 -> 0 | M11: =IF(H11="0-1 hour", 0.5, 1.5)*K11 -> 0 | N11: 15 | O11: =N11*K11 -> 0
A12: 9 | B12: Subnautica | C12: 1674 | D12: 1000 | E12: 1.67 | F12: 124730 | G12: 28.2 | H12: 0-1 hour | I12: 3.5 | J12: Y | K12: =IF(J12="Y", 0, 1) -> 0 | L12: ='1000+ GS'!$D12*'1000+ GS'!$K12 -> 0 | M12: =IF(H12="0-1 hour", 0.5, 1.5)*K12 -> 0 | N12: 15 | O12: =N12*K12 -> 0 | Q12: EST. $ SUM | S12: EST. $ SUM
A13: 10 | B13: #IDARB | C13: 1412 | D13: 1000 | E13: 1.41 | F13: 88643 | G13: 24 | H13: 1-2 hours | I13: 2.7 | J13: Y | K13: =IF(J13="Y", 0, 1) -> 0 | L13: ='1000+ GS'!$D13*'1000+ GS'!$K13 -> 0 | M13: =IF(H13="0-1 hour", 0.5, 1.5)*K13 -> 0 | N13: 15 | O13: =N13*K13 -> 0 | Q13: =SUM(O4:O513) -> 7440 | S13: =Q13+Win10!N9 -> 8384
A14: 11 | B14: ReactorX | C14: 3071 | D14: 3000 | E14: 1.02 | F14: 8716 | G14: 90.8 | H14: 0-1 hour | I14: 2.3 | K14: =IF(J14="Y", 0, 1) -> 1 | L14: ='1000+ GS'!$D14*'1000+ GS'!$K14 -> 3000 | M14: =IF(H14="0-1 hour", 0.5, 1.5)*K14 -> 0.5 | N14: 15 | O14: =N14*K14 -> 15
A15: 12 | B15: 50 Years | C15: 3082 | D15: 3000 | E15: 1.03 | F15: 5359 | G15: 87.4 | H15: 0-1 hour | I15: 2.7 | K15: =IF(J15="Y", 0, 1) -> 1 | L15: ='1000+ GS'!$D15*'1000+ GS'!$K15 -> 3000 | M15: =IF(H15="0-1 hour", 0.5, 1.5)*K15 -> 0.5 | N15: 15 | O15: =N15*K15 -> 15 | Q15: POINTS PER $ | S15: POINTS PER $
A16: 13 | B16: Bullet Beat | C16: 3172 | D16: 3000 | E16: 1.06 | F16: 8276 | G16: 80.1 | H16: 0-1 hour | I16: 2.3 | K16: =IF(J16="Y", 0, 1) -> 1 | L16: ='1000+ GS'!$D16*'1000+ GS'!$K16 -> 3000 | M16: =IF(H16="0-1 hour", 0.5, 1.5)*K16 -> 0.5 | N16: 15 | O16: =N16*K16 -> 15 | Q16: =Q4/Q13 -> 69.924059 | S16: =S4/S13 -> 77.169012
A17: 14 | B17: Dark Grim Mariupolis | C17: 3150 | D17: 3000 | E17: 1.05 | F17: 4915 | G17: 78 | H17: 0-1 hour | I17: 1.7 | K17: =IF(J17="Y", 0, 1) -> 1 | L17: ='1000+ GS'!$D17*'1000+ GS'!$K17 -> 3000 | M17: =IF(H17="0-1 hour", 0.5, 1.5)*K17 -> 0.5 | N17: 15 | O17: =N17*K17 -> 15
A18: 15 | B18: Nexoria: Dungeon Rogue Heroes | C18: 3264 | D18: 3000 | E18: 1.09 | F18: 2427 | G18: 75.4 | H18: 1-2 hours | I18: 2.7 | K18: =IF(J18="Y", 0, 1) -> 1 | L18: ='1000+ GS'!$D18*'1000+ GS'!$K18 -> 3000 | M18: =IF(H18="0-1 hour", 0.5, 1.5)*K18 -> 1.5 | N18: 15 | O18: =N18*K18 -> 15
A19: 16 | B19: Smart Moves | C19: 3125 | D19: 3000 | E19: 1.04 | F19: 8731 | G19: 72.7 | H19: 0-1 hour | I19: 2.1 | K19: =IF(J19="Y", 0, 1) -> 1 | L19: ='1000+ GS'!$D19*'1000+ GS'!$K19 -> 3000 | M19: =IF(H19="0-1 hour", 0.5, 1.5)*K19 -> 0.5 | N19: 15 | O19: =N19*K19 -> 15
A20: 17 | B20: The Explorer Of Night | C20: 3175 | D20: 3000 | E20: 1.06 | F20: 5965 | G20: 71.5 | H20: 0-1 hour | I20: 2.1 | K20: =IF(J20="Y", 0, 1) -> 1 | L20: ='1000+ GS'!$D20*'1000+ GS'!$K20 -> 3000 | M20: =IF(H20="0-1 hour", 0.5, 1.5)*K20 -> 0.5 | N20: 15 | O20: =N20*K20 -> 15
A21: 18 | B21: Castle of no Escape | C21: 3175 | D21: 3000 | E21: 1.06 | F21: 13191 | G21: 67.2 | H21: 0-1 hour | I21: 1.8 | K21: =IF(J21="Y", 0, 1) -> 1 | L21: ='1000+ GS'!$D21*'1000+ GS'!$K21 -> 3000 | M21: =IF(H21="0-1 hour", 0.5, 1.5)*K21 -> 0.5 | N21: 15 | O21: =N21*K21 -> 15
A22: 19 | B22: Castle of no Escape 2 | C22: 3245 | D22: 3000 | E22: 1.08 | F22: 11034 | G22: 62.8 | H22: 0-1 hour | I22: 2 | K22: =IF(J22="Y", 0, 1) -> 1 | L22: ='1000+ GS'!$D22*'1000+ GS'!$K22 -> 3000 | M22: =IF(H22="0-1 hour", 0.5, 1.5)*K22 -> 0.5 | N22: 15 | O22: =N22*K22 -> 15
A23: 20 | B23: Mushroom Savior | C23: 2099 | D23: 2000 | E23: 1.05 | F23: 4227 | G23: 74.4 | H23: 1-2 hours | I23: 2.3 | K23: =IF(J23="Y", 0, 1) -> 1 | L23: ='1000+ GS'!$D23*'1000+ GS'!$K23 -> 2000 | M23: =IF(H23="0-1 hour", 0.5, 1.5)*K23 -> 1.5 | N23: 15 | O23: =N23*K23 -> 15
A24: 21 | B24: Mushroom Quest | C24: 2130 | D24: 2000 | E24: 1.06 | F24: 8625 | G24: 74.1 | H24: 0-1 hour | I24: 2.2 | K24: =IF(J24="Y", 0, 1) -> 1 | L24: ='1000+ GS'!$D24*'1000+ GS'!$K24 -> 2000 | M24: =IF(H24="0-1 hour", 0.5, 1.5)*K24 -> 0.5 | N24: 15 | O24: =N24*K24 -> 15
A25: 22 | B25: Aborigenus | C25: 2143 | D25: 2000 | E25: 1.07 | F25: 8165 | G25: 73.7 | H25: 0-1 hour | I25: 1.9 | K25: =IF(J25="Y", 0, 1) -> 1 | L25: ='1000+ GS'!$D25*'1000+ GS'!$K25 -> 2000 | M25: =IF(H25="0-1 hour", 0.5, 1.5)*K25 -> 0.5 | N25: 15 | O25: =N25*K25 -> 15
A26: 23 | B26: Pixel Gladiator | C26: 2156 | D26: 2000 | E26: 1.08 | F26: 6766 | G26: 67.8 | H26: 0-1 hour | I26: 2.1 | J26: Y | K26: =IF(J26="Y", 0, 1) -> 0 | L26: ='1000+ GS'!$D26*'1000+ GS'!$K26 -> 0 | M26: =IF(H26="0-1 hour", 0.5, 1.5)*K26 -> 0 | N26: 2.36 | O26: =N26*K26 -> 0
A27: 24 | B27: Sig.NULL | C27: 2279 | D27: 2000 | E27: 1.14 | F27: 2356 | G27: 62.6 | H27: 0-1 hour | I27: 2.4 | K27: =IF(J27="Y", 0, 1) -> 1 | L27: ='1000+ GS'!$D27*'1000+ GS'!$K27 -> 2000 | M27: =IF(H27="0-1 hour", 0.5, 1.5)*K27 -> 0.5 | N27: 15 | O27: =N27*K27 -> 15
A28: 25 | B28: The Adventures of Elena Temple: Definitive Edition | C28: 2377 | D28: 2000 | E28: 1.19 | F28: 3249 | G28: 62 | H28: 1-2 hours | I28: 3 | K28: =IF(J28="Y", 0, 1) -> 1 | L28: ='1000+ GS'!$D28*'1000+ GS'!$K28 -> 2000 | M28: =IF(H28="0-1 hour", 0.5, 1.5)*K28 -> 1.5 | N28: 15 | O28: =N28*K28 -> 15
A29: 26 | B29: Blast Brawl 2: Bloody Boogaloo | C29: 4710 | D29: 1840 | E29: 2.56 | F29: 174 | G29: 3.4 | H29: 1-2 hours | I29: 1.9 | K29: =IF(J29="Y", 0, 1) -> 1 | L29: ='1000+ GS'!$D29*'1000+ GS'!$K29 -> 1840 | M29: =IF(H29="0-1 hour", 0.5, 1.5)*K29 -> 1.5 | N29: 15 | O29: =N29*K29 -> 15
A30: 27 | B30: Conan Exiles | C30: 3723 | D30: 1460 | E30: 2.55 | F30: 33849 | G30: 0.3 | H30: 1-2 hours | I30: 2.7 | J30: Y | K30: =IF(J30="Y", 0, 1) -> 0 | L30: ='1000+ GS'!$D30*'1000+ GS'!$K30 -> 0 | M30: =IF(H30="0-1 hour", 0.5, 1.5)*K30 -> 0 | N30: 30 | O30: =N30*K30 -> 0
A31: 28 | B31: Where the Bees Make Honey | C31: 1263 | D31: 1200 | E31: 1.05 | F31: 7537 | G31: 78.2 | H31: 1-2 hours | I31: 1.7 | K31: =IF(J31="Y", 0, 1) -> 1 | L31: ='1000+ GS'!$D31*'1000+ GS'!$K31 -> 1200 | M31: =IF(H31="0-1 hour", 0.5, 1.5)*K31 -> 1.5 | N31: 15 | O31: =N31*K31 -> 15
A32: 29 | B32: Bear With Me: The Lost Robots | C32: 1364 | D32: 1195 | E32: 1.14 | F32: 2422 | G32: 30.8 | H32: 1-2 hours | I32: 3.1 | K32: =IF(J32="Y", 0, 1) -> 1 | L32: ='1000+ GS'!$D32*'1000+ GS'!$K32 -> 1195 | M32: =IF(H32="0-1 hour", 0.5, 1.5)*K32 -> 1.5 | N32: 15 | O32: =N32*K32 -> 15
A33: 30 | B33: Crime Opera: The Butterfly Effect | C33: 1004 | D33: 1000 | E33: 1 | F33: 2145 | G33: 99 | H33: 0-1 hour | I33: 2.4 | K33: =IF(J33="Y", 0, 1) -> 1 | L33: ='1000+ GS'!$D33*'1000+ GS'!$K33 -> 1000 | M33: =IF(H33="0-1 hour", 0.5, 1.5)*K33 -> 0.5 | N33: 15 | O33: =N33*K33 -> 15
A34: 31 | B34: Loot Hero DX | C34: 1004 | D34: 1000 | E34: 1 | F34: 4217 | G34: 98.6 | H34: 0-1 hour | I34: 2.8 | K34: =IF(J34="Y", 0, 1) -> 1 | L34: ='1000+ GS'!$D34*'1000+ GS'!$K34 -> 1000 | M34: =IF(H34="0-1 hour", 0.5, 1.5)*K34 -> 0.5 | N34: 15 | O34: =N34*K34 -> 15
A35: 32 | B35: Blind Men | C35: 1005 | D35: 1000 | E35: 1.01 | F35: 8051 | G35: 98.5 | H35: 0-1 hour | I35: 1.9 | K35: =IF(J35="Y", 0, 1) -> 1 | L35: ='1000+ GS'!$D35*'1000+ GS'!$K35 -> 1000 | M35: =IF(H35="0-1 hour", 0.5, 1.5)*K35 -> 0.5 | N35: 15 | O35: =N35*K35 -> 15
A36: 33 | B36: Deep Space Rush | C36: 1005 | D36: 1000 | E36: 1 | F36: 5607 | G36: 98.3 | H36: 0-1 hour | I36: 2.2 | K36: =IF(J36="Y", 0, 1) -> 1 | L36: ='1000+ GS'!$D36*'1000+ GS'!$K36 -> 1000 | M36: =IF(H36="0-1 hour", 0.5, 1.5)*K36 -> 0.5 | N36: 15 | O36: =N36*K36 -> 15
A37: 34 | B37: A Winter's Daydream | C37: 1007 | D37: 1000 | E37: 1.01 | F37: 10199 | G37: 98 | H37: 0-1 hour | I37: 2.1 | K37: =IF(J37="Y", 0, 1) -> 1 | L37: ='1000+ GS'!$D37*'1000+ GS'!$K37 -> 1000 | M37: =IF(H37="0-1 hour", 0.5, 1.5)*K37 -> 0.5 | N37: 15 | O37: =N37*K37 -> 15
A38: 35 | B38: The Language Of Love | C38: 1010 | D38: 1000 | E38: 1.01 | F38: 5034 | G38: 97.6 | H38: 0-1 hour | I38: 2.2 | K38: =IF(J38="Y", 0, 1) -> 1 | L38: ='1000+ GS'!$D38*'1000+ GS'!$K38 -> 1000 | M38: =IF(H38="0-1 hour", 0.5, 1.5)*K38 -> 0.5 | N38: 15 | O38: =N38*K38 -> 15
A39: 36 | B39: Butterfly | C39: 1006 | D39: 1000 | E39: 1.01 | F39: 4241 | G39: 97.5 | H39: 0-1 hour | I39: 1.9 | K39: =IF(J39="Y", 0, 1) -> 1 | L39: ='1000+ GS'!$D39*'1000+ GS'!$K39 -> 1000 | M39: =IF(H39="0-1 hour", 0.5, 1.5)*K39 -> 0.5 | N39: 15 | O39: =N39*K39 -> 15
A40: 37 | B40: Syrup and the Ultimate Sweet | C40: 1009 | D40: 1000 | E40: 1.01 | F40: 7928 | G40: 97.5 | H40: 0-1 hour | I40: 2.2 | K40: =IF(J40="Y", 0, 1) -> 1 | L40: ='1000+ GS'!$D40*'1000+ GS'!$K40 -> 1000 | M40: =IF(H40="0-1 hour", 0.5, 1.5)*K40 -> 0.5 | N40: 15 | O40: =N40*K40 -> 15
A41: 38 | B41: Rememoried | C41: 1009 | D41: 1000 | E41: 1.01 | F41: 14457 | G41: 97.3 | H41: 0-1 hour | I41: 2 | K41: =IF(J41="Y", 0, 1) -> 1 | L41: ='1000+ GS'!$D41*'1000+ GS'!$K41 -> 1000 | M41: =IF(H41="0-1 hour", 0.5, 1.5)*K41 -> 0.5 | N41: 15 | O41: =N41*K41 -> 15
A42: 39 | B42: CAN ANDROIDS PRAY: BLUE | C42: 1006 | D42: 1000 | E42: 1.01 | F42: 5057 | G42: 97.1 | H42: 0-1 hour | I42: 1.9 | K42: =IF(J42="Y", 0, 1) -> 1 | L42: ='1000+ GS'!$D42*'1000+ GS'!$K42 -> 1000 | M42: =IF(H42="0-1 hour", 0.5, 1.5)*K42 -> 0.5 | N42: 15 | O42: =N42*K42 -> 15
... A93: 90 | B93: More Dark | C93: 1021 | D93: 1000 | E93: 1.02 | F93: 2632 | G93: 91.4 | H93: 0-1 hour | I93: 2.1 | K93: =IF(J93="Y", 0, 1) -> 1 | L93: ='1000+ GS'!$D93*'1000+ GS'!$K93 -> 1000 | M93: =IF(H93="0-1 hour", 0.5, 1.5)*K93 -> 0.5 | N93: 15 | O93: =N93*K93 -> 15
A94: 91 | B94: Project Starship | C94: 1019 | D94: 1000 | E94: 1.02 | F94: 5181 | G94: 91.3 | H94: 0-1 hour | I94: 2.4 | J94: Y | K94: =IF(J94="Y", 0, 1) -> 0 | L94: ='1000+ GS'!$D94*'1000+ GS'!$K94 -> 0 | M94: =IF(H94="0-1 hour", 0.5, 1.5)*K94 -> 0 | N94: 3.38 | O94: =N94*K94 -> 0
A95: 92 | B95: Jisei: The First Case HD | C95: 1024 | D95: 1000 | E95: 1.02 | F95: 3451 | G95: 91.2 | H95: 0-1 hour | I95: 2.2 | K95: =IF(J95="Y", 0, 1) -> 1 | L95: ='1000+ GS'!$D95*'1000+ GS'!$K95 -> 1000 | M95: =IF(H95="0-1 hour", 0.5, 1.5)*K95 -> 0.5 | N95: 15 | O95: =N95*K95 -> 15
A96: 93 | B96: Trails and Traces: The Tomb of Thomas Tew | C96: 1037 | D96: 1000 | E96: 1.04 | F96: 1007 | G96: 91.2 | H96: 0-1 hour | I96: 1.7 | K96: =IF(J96="Y", 0, 1) -> 1 | L96: ='1000+ GS'!$D96*'1000+ GS'!$K96 -> 1000 | M96: =IF(H96="0-1 hour", 0.5, 1.5)*K96 -> 0.5 | N96: 15 | O96: =N96*K96 -> 15
A97: 94 | B97: Horned Knight | C97: 1016 | D97: 1000 | E97: 1.02 | F97: 1516 | G97: 91 | H97: 0-1 hour | I97: 2.3 | K97: =IF(J97="Y", 0, 1) -> 1 | L97: ='1000+ GS'!$D97*'1000+ GS'!$K97 -> 1000 | M97: =IF(H97="0-1 hour", 0.5, 1.5)*K97 -> 0.5 | N97: 15 | O97: =N97*K97 -> 15
A98: 95 | B98: Many Faces | C98: 1015 | D98: 1000 | E98: 1.01 | F98: 4348 | G98: 91 | H98: 0-1 hour | I98: 2.3 | K98: =IF(J98="Y", 0, 1) -> 1 | L98: ='1000+ GS'!$D98*'1000+ GS'!$K98 -> 1000 | M98: =IF(H98="0-1 hour", 0.5, 1.5)*K98 -> 0.5 | N98: 15 | O98: =N98*K98 -> 15
A99: 96 | B99: TRAX - Build it, Race it | C99: 1039 | D99: 1000 | E99: 1.04 | F99: 2442 | G99: 91 | H99: 0-1 hour | I99: 1.3 | K99: =IF(J99="Y", 0, 1) -> 1 | L99: ='1000+ GS'!$D99*'1000+ GS'!$K99 -> 1000 | M99: =IF(H99="0-1 hour", 0.5, 1.5)*K99 -> 0.5 | N99: 15 | O99: =N99*K99 -> 15
A100: 97 | B100: Aery - Little Bird Adventure | C100: 1034 | D100: 1000 | E100: 1.03 | F100: 4174 | G100: 90.9 | H100: 0-1 hour | I100: 2.4 | K100: =IF(J100="Y", 0, 1) -> 1 | L100: ='1000+ GS'!$D100*'1000+ GS'!$K100 -> 1000 | M100: =IF(H100="0-1 hour", 0.5, 1.5)*K100 -> 0.5 | N100: 15 | O100: =N100*K100 -> 15
A101: 98 | B101: Balancelot | C101: 1017 | D101: 1000 | E101: 1.02 | F101: 1911 | G101: 90.8 | H101: 0-1 hour | I101: 1.6 | K101: =IF(J101="Y", 0, 1) -> 1 | L101: ='1000+ GS'!$D101*'1000+ GS'!$K101 -> 1000 | M101: =IF(H101="0-1 hour", 0.5, 1.5)*K101 -> 0.5 | N101: 15 | O101: =N101*K101 -> 15
A102: 99 | B102: C14 Dating | C102: 1037 | D102: 1000 | E102: 1.04 | F102: 423 | G102: 90.8 | H102: 0-1 hour | I102: 2.4 | K102: =IF(J102="Y", 0, 1) -> 1 | L102: ='1000+ GS'!$D102*'1000+ GS'!$K102 -> 1000 | M102: =IF(H102="0-1 hour", 0.5, 1.5)*K102 -> 0.5 | N102: 15 | O102: =N102*K102 -> 15
A103: 100 | B103: Evan's Remains | C103: 1030 | D103: 1000 | E103: 1.03 | F103: 2382 | G103: 90.6 | H103: 0-1 hour | I103: 2.7 | K103: =IF(J103="Y", 0, 1) -> 1 | L103: ='1000+ GS'!$D103*'1000+ GS'!$K103 -> 1000 | M103: =IF(H103="0-1 hour", 0.5, 1.5)*K103 -> 0.5 | N103: 15 | O103: =N103*K103 -> 15
A104: 101 | B104: Hoggy2 | C104: 1025 | D104: 1000 | E104: 1.02 | F104: 3653 | G104: 90.2 | H104: 0-1 hour | I104: 2.4 | K104: =IF(J104="Y", 0, 1) -> 1 | L104: ='1000+ GS'!$D104*'1000+ GS'!$K104 -> 1000 | M104: =IF(H104="0-1 hour", 0.5, 1.5)*K104 -> 0.5 | N104: 15 | O104: =N104*K104 -> 15
A105: 102 | B105: FoxyLand | C105: 1019 | D105: 1000 | E105: 1.02 | F105: 6911 | G105: 90.1 | H105: 0-1 hour | I105: 2.3 | K105: =IF(J105="Y", 0, 1) -> 1 | L105: ='1000+ GS'!$D105*'1000+ GS'!$K105 -> 1000 | M105: =IF(H105="0-1 hour", 0.5, 1.5)*K105 -> 0.5 | N105: 15 | O105: =N105*K105 -> 15
A106: 103 | B106: Echoes of the Fey: The Fox's Trail | C106: 1033 | D106: 1000 | E106: 1.03 | F106: 1370 | G106: 89.9 | H106: 1-2 hours | I106: 2 | K106: =IF(J106="Y", 0, 1) -> 1 | L106: ='1000+ GS'!$D106*'1000+ GS'!$K106 -> 1000 | M106: =IF(H106="0-1 hour", 0.5, 1.5)*K106 -> 1.5 | N106: 15 | O106: =N106*K106 -> 15
... A459: 457 | B459: ACA NEOGEO Gururin | C459: 1193 | D459: 1000 | E459: 1.19 | F459: 315 | G459: 38.4 | H459: 1-2 hours | I459: 2.5 | K459: =IF(J459="Y", 0, 1) -> 1 | L459: ='1000+ GS'!$D459*'1000+ GS'!$K459 -> 1000 | M459: =IF(H459="0-1 hour", 0.5, 1.5)*K459 -> 1.5 | N459: 15 | O459: =N459*K459 -> 15
A460: 458 | B460: DOOM 64 | C460: 1452 | D460: 1000 | E460: 1.45 | F460: 37593 | G460: 37.7 | H460: 1-2 hours | I460: 3.7 | J460: Y | K460: =IF(J460="Y", 0, 1) -> 0 | L460: ='1000+ GS'!$D460*'1000+ GS'!$K460 -> 0 | M460: =IF(H460="0-1 hour", 0.5, 1.5)*K460 -> 0 | N460: 15 | O460: =N460*K460 -> 0
A461: 459 | B461: Super Space Serpent SE | C461: 1421 | D461: 1000 | E461: 1.42 | F461: 1038 | G461: 36.7 | H461: 1-2 hours | I461: 2.3 | K461: =IF(J461="Y", 0, 1) -> 1 | L461: ='1000+ GS'!$D461*'1000+ GS'!$K461 -> 1000 | M461: =IF(H461="0-1 hour", 0.5, 1.5)*K461 -> 1.5 | N461: 15 | O461: =N461*K461 -> 15
A462: 460 | B462: ACA NEOGEO KARNOV'S REVENGE | C462: 1233 | D462: 1000 | E462: 1.23 | F462: 461 | G462: 36.4 | H462: 1-2 hours | I462: 2.2 | K462: =IF(J462="Y", 0, 1) -> 1 | L462: ='1000+ GS'!$D462*'1000+ GS'!$K462 -> 1000 | M462: =IF(H462="0-1 hour", 0.5, 1.5)*K462 -> 1.5 | N462: 15 | O462: =N462*K462 -> 15
A463: 461 | B463: ACA NEOGEO ALPHA MISSION II | C463: 1284 | D463: 1000 | E463: 1.28 | F463: 1525 | G463: 36 | H463: 1-2 hours | I463: 2.6 | K463: =IF(J463="Y", 0, 1) -> 1 | L463: ='1000+ GS'!$D463*'1000+ GS'!$K463 -> 1000 | M463: =IF(H463="0-1 hour", 0.5, 1.5)*K463 -> 1.5 | N463: 15 | O463: =N463*K463 -> 15
A464: 462 | B464: ACA NEOGEO SHOCK TROOPERS 2nd Squad | C464: 1327 | D464: 1000 | E464: 1.33 | F464: 525 | G464: 36 | H464: 1-2 hours | I464: 3.4 | K464: =IF(J464="Y", 0, 1) -> 1 | L464: ='1000+ GS'!$D464*'1000+ GS'!$K464 -> 1000 | M464: =IF(H464="0-1 hour", 0.5, 1.5)*K464 -> 1.5 | N464: 15 | O464: =N464*K464 -> 15
A465: 463 | B465: We Were Here | C465: 1240 | D465: 1000 | E465: 1.24 | F465: 21452 | G465: 35.4 | H465: 1-2 hours | I465: 3.2 | K465: =IF(J465="Y", 0, 1) -> 1 | L465: ='1000+ GS'!$D465*'1000+ GS'!$K465 -> 1000 | M465: =IF(H465="0-1 hour", 0.5, 1.5)*K465 -> 1.5 | N465: 15 | O465: =N465*K465 -> 15
A466: 464 | B466: Duke Nukem 3D: 20th Anniversary Edition World Tour | C466: 1473 | D466: 1000 | E466: 1.47 | F466: 19451 | G466: 35.3 | H466: 1-2 hours | I466: 3.5 | K466: =IF(J466="Y", 0, 1) -> 1 | L466: ='1000+ GS'!$D466*'1000+ GS'!$K466 -> 1000 | M466: =IF(H466="0-1 hour", 0.5, 1.5)*K466 -> 1.5 | N466: 15 | O466: =N466*K466 -> 15
A467: 465 | B467: ACA NEOGEO PUZZLE BOBBLE 2 | C467: 1321 | D467: 1000 | E467: 1.32 | F467: 974 | G467: 35.2 | H467: 1-2 hours | I467: 3.4 | K467: =IF(J467="Y", 0, 1) -> 1 | L467: ='1000+ GS'!$D467*'1000+ GS'!$K467 -> 1000 | M467: =IF(H467="0-1 hour", 0.5, 1.5)*K467 -> 1.5 | N467: 15 | O467: =N467*K467 -> 15
A468: 466 | B468: ACA NEOGEO LEAGUE BOWLING | C468: 1185 | D468: 1000 | E468: 1.18 | F468: 661 | G468: 34.8 | H468: 1-2 hours | I468: 3.1 | K468: =IF(J468="Y", 0, 1) -> 1 | L468: ='1000+ GS'!$D468*'1000+ GS'!$K468 -> 1000 | M468: =IF(H468="0-1 hour", 0.5, 1.5)*K468 -> 1.5 | N468: 15 | O468: =N468*K468 -> 15
A469: 467 | B469: Maize | C469: 1271 | D469: 1000 | E469: 1.27 | F469: 3690 | G469: 34.1 | H469: 1-2 hours | I469: 2.9 | K469: =IF(J469="Y", 0, 1) -> 1 | L469: ='1000+ GS'!$D469*'1000+ GS'!$K469 -> 1000 | M469: =IF(H469="0-1 hour", 0.5, 1.5)*K469 -> 1.5 | N469: 15 | O469: =N469*K469 -> 15
A470: 468 | B470: ABZÛ | C470: 1503 | D470: 1000 | E470: 1.5 | F470: 61236 | G470: 33 | H470: 1-2 hours | I470: 3.4 | K470: =IF(J470="Y", 0, 1) -> 1 | L470: ='1000+ GS'!$D470*'1000+ GS'!$K470 -> 1000 | M470: =IF(H470="0-1 hour", 0.5, 1.5)*K470 -> 1.5 | N470: 15 | O470: =N470*K470 -> 15
A471: 469 | B471: Save Your Nuts | C471: 1424 | D471: 1000 | E471: 1.42 | F471: 781 | G471: 32.3 | H471: 1-2 hours | I471: 2.6 | K471: =IF(J471="Y", 0, 1) -> 1 | L471: ='1000+ GS'!$D471*'1000+ GS'!$K471 -> 1000 | M471: =IF(H471="0-1 hour", 0.5, 1.5)*K471 -> 1.5 | N471: 15 | O471: =N471*K471 -> 15
A472: 470 | B472: ACA NEOGEO PUZZLE BOBBLE | C472: 1367 | D472: 1000 | E472: 1.37 | F472: 1824 | G472: 31.9 | H472: 1-2 hours | I472: 3 | K472: =IF(J472="Y", 0, 1) -> 1 | L472: ='1000+ GS'!$D472*'1000+ GS'!$K472 -> 1000 | M472: =IF(H472="0-1 hour", 0.5, 1.5)*K472 -> 1.5 | N472: 15 | O472: =N472*K472 -> 15
... A513: 511 | B513: DC Universe Online | C513: 2949 | D513: 1000 | E513: 2.95 | F513: 35899 | G513: 2.4 | H513: 0-1 hour | I513: 3 | K513: =IF(J513="Y", 0, 1) -> 1 | L513: ='1000+ GS'!$D513*'1000+ GS'!$K513 -> 1000 | M513: =IF(H513="0-1 hour", 0.5, 1.5)*K513 -> 0.5 | N513: 15 | O513: =N513*K513 -> 15

Sheet Less than 1000 GS
B2: GAME | C2: SCORE | E2: RATIO | F2: GAMERS | G2: COMP % | H2: COMP TIME | I2: RATING
B3: Virtua Striker | C3: 407 (400) | E3: 1.02 | F3: 696 | G3: 94.3 | H3: 0-1 hour | I3: 2.7
B4: Sonic the Fighters | C4: 409 (400) | E4: 1.02 | F4: 18965 | G4: 88 | H4: 0-1 hour | I4: 2.2
B5: Cyber Troopers Virtual-On | C5: 410 (400) | E5: 1.02 | F5: 830 | G5: 91.3 | H5: 0-1 hour | I5: 2.7
B6: Virtua Fighter 2 | C6: 426 (400) | E6: 1.07 | F6: 11524 | G6: 75.1 | H6: 0-1 hour | I6: 2.4
B7: Fighting Vipers | C7: 428 (400) | E7: 1.07 | F7: 9110 | G7: 70.3 | H7: 0-1 hour | I7: 2.3
B8: Who Wants To Be A Millionaire? Special Editions | C8: 464 (400) | E8: 1.16 | F8: 2304 | G8: 55.7 | H8: 1-2 hours | I8: 2.7
B9: Rock Band Classic Rock Track Pack | C9: 517 (250) | E9: 2.07 | F9: 2339 | G9: 4.5 | H9: 1-2 hours | I9: 3.3
B10: Virtua Fighter 5 Final Showdown | C10: 543 (400) | E10: 1.36 | F10: 39337 | G10: 21.8 | H10: 1-2 hours | I10: 3.1
B11: The Walking Dead: Season Two (Xbox 360) | C11: 569 (500) | E11: 1.14 | F11: 66150 | G11: 46.7 | H11: 1-2 hours | I11: 4.4
B12: Kinect Fun Labs: Junk Fu | C12: 57 (50) | E12: 1.15 | F12: 4640 | G12: 46.6 | H12: 0-1 hour | I12: 2.7
B13: Kinect Fun Labs: Kinect Rush: Snapshot | C13: 57 (50) | E13: 1.14 | F13: 5108 | G13: 66.7 | H13: 0-1 hour | I13: 2
B14: Kinect Fun Labs: Mutation Station | C14: 60 (50) | E14: 1.21 | F14: 9431 | G14: 40.7 | H14: 0-1 hour | I14: 2.2
... B56: Adera (Win 8) | C56: 1,336 (800) | E56: 1.67 | F56: 19920 | G56: 5.1 | H56: 1-2 hours | I56: 3.4

Sheet Win10
B2: GAME | C2: SCORE | D2: TRUEACHIEVEMENT SCORE | E2: GAMER SCORE | F2: RATIO | G2: GAMERS | H2: COMP % | I2: COMP TIME | J2: RATING | K2: TIME EST. | L2: $ EST. | N2: TOTAL VALUE
B3: The Explorer Of Night (Win 10) | C3: =RIGHT(B3,8) -> (Win 10) | D3: 1,000 | E3: 1000 | F3: 1 | G3: 38 | H3: 100 | I3: 0-1 hour | J3: 4 | K3: =IF(I3="0-1 hour", 0.5, 1.5) -> 0.5 | L3: 8 | N3: =SUM(E3:E120) -> 126750
B4: Smart Moves 2 (Win 10) | C4: =RIGHT(B4,8) -> (Win 10) | D4: 1,001 | E4: 1000 | F4: 1 | G4: 43 | H4: 97.7 | I4: 0-1 hour | J4: 3.8 | K4: =IF(I4="0-1 hour", 0.5, 1.5) -> 0.5 | L4: 8
B5: ACA NEOGEO WORLD HEROES (Win 10) | C5: =RIGHT(B5,8) -> (Win 10) | D5: 1,007 | E5: 1000 | F5: 1.01 | G5: 994 | H5: 96.6 | I5: 0-1 hour | J5: 2.1 | K5: =IF(I5="0-1 hour", 0.5, 1.5) -> 0.5 | L5: 8 | N5: ESTIMATED TIME (HOURS)
B6: ACA NEOGEO THE KING OF FIGHTERS '96 (Win 10) | C6: =RIGHT(B6,8) -> (Win 10) | D6: 1,011 | E6: 1000 | F6: 1.01 | G6: 591 | H6: 92.7 | I6: 0-1 hour | J6: 2.6 | K6: =IF(I6="0-1 hour", 0.5, 1.5) -> 0.5 | L6: 8 | N6: =SUM(K3:K120) -> 93
B7: ACA NEOGEO REAL BOUT FATAL FURY SPECIAL (Win 10) | C7: =RIGHT(B7,8) -> (Win 10) | D7: 1,012 | E7: 1000 | F7: 1.01 | G7: 457 | H7: 92.8 | I7: 0-1 hour | J7: 2.6 | K7: =IF(I7="0-1 hour", 0.5, 1.5) -> 0.5 | L7: 8
B8: ACA NEOGEO TWINKLE STAR SPRITES (Win 10) | C8: =RIGHT(B8,8) -> (Win 10) | D8: 1,012 | E8: 1000 | F8: 1.01 | G8: 367 | H8: 93.2 | I8: 0-1 hour | J8: 3.3 | K8: =IF(I8="0-1 hour", 0.5, 1.5) -> 0.5 | L8: 8 | N8: EST. $ SUM
B9: ACA NEOGEO SAMURAI SHODOWN II (Win 10) | C9: =RIGHT(B9,8) -> (Win 10) | D9: 1,013 | E9: 1000 | F9: 1.01 | G9: 629 | H9: 94 | I9: 0-1 hour | J9: 2.6 | K9: =IF(I9="0-1 hour", 0.5, 1.5) -> 0.5 | L9: 8 | N9: =SUM(L3:L120) -> 944
B10: ACA NEOGEO THE LAST BLADE (Win 10) | C10: =RIGHT(B10,8) -> (Win 10) | D10: 1,015 | E10: 1000 | F10: 1.02 | G10: 594 | H10: 91.1 | I10: 0-1 hour | J10: 2.6 | K10: =IF(I10="0-1 hour", 0.5, 1.5) -> 0.5 | L10: 8
B11: ACA NEOGEO FATAL FURY 2 (Win 10) | C11: =RIGHT(B11,8) -> (Win 10) | D11: 1,016 | E11: 1000 | F11: 1.02 | G11: 747 | H11: 93 | I11: 0-1 hour | J11: 2.3 | K11: =IF(I11="0-1 hour", 0.5, 1.5) -> 0.5 | L11: 8
B12: ACA NEOGEO WORLD HEROES PERFECT (Win 10) | C12: =RIGHT(B12,8) -> (Win 10) | D12: 1,016 | E12: 1000 | F12: 1.02 | G12: 333 | H12: 91 | I12: 0-1 hour | J12: 2.6 | K12: =IF(I12="0-1 hour", 0.5, 1.5) -> 0.5 | L12: 8
B13: ACA NEOGEO KIZUNA ENCOUNTER (Win 10) | C13: =RIGHT(B13,8) -> (Win 10) | D13: 1,017 | E13: 1000 | F13: 1.02 | G13: 275 | H13: 89.8 | I13: 0-1 hour | J13: 3 | K13: =IF(I13="0-1 hour", 0.5, 1.5) -> 0.5 | L13: 8
B14: ACA NEOGEO THE KING OF FIGHTERS 2000 (Win 10) | C14: =RIGHT(B14,8) -> (Win 10) | D14: 1,018 | E14: 1000 | F14: 1.02 | G14: 397 | H14: 92.4 | I14: 0-1 hour | J14: 2.8 | K14: =IF(I14="0-1 hour", 0.5, 1.5) -> 0.5 | L14: 8
B15: ACA NEOGEO THE KING OF FIGHTERS 2003 (Win 10) | C15: =RIGHT(B15,8) -> (Win 10) | D15: 1,019 | E15: 1000 | F15: 1.02 | G15: 309 | H15: 90 | I15: 0-1 hour | J15: 3 | K15: =IF(I15="0-1 hour", 0.5, 1.5) -> 0.5 | L15: 8
B16: ACA NEOGEO FATAL FURY 3 (Win 10) | C16: =RIGHT(B16,8) -> (Win 10) | D16: 1,021 | E16: 1000 | F16: 1.02 | G16: 441 | H16: 90.7 | I16: 0-1 hour | J16: 2.5 | K16: =IF(I16="0-1 hour", 0.5, 1.5) -> 0.5 | L16: 8
B17: ACA NEOGEO FOOTBALL FRENZY (Win 10) | C17: =RIGHT(B17,8) -> (Win 10) | D17: 1,022 | E17: 1000 | F17: 1.02 | G17: 269 | H17: 91.4 | I17: 1-2 hours | J17: 2.6 | K17: =IF(I17="0-1 hour", 0.5, 1.5) -> 1.5 | L17: 8
B18: ACA NEOGEO GAROU: MARK OF THE WOLVES (Win 10) | C18: =RIGHT(B18,8) -> (Win 10) | D18: 1,022 | E18: 1000 | F18: 1.02 | G18: 411 | H18: 89.1 | I18: 0-1 hour | J18: 3 | K18: =IF(I18="0-1 hour", 0.5, 1.5) -> 0.5 | L18: 8
B19: ACA NEOGEO THE KING OF FIGHTERS '95 (Win 10) | C19: =RIGHT(B19,8) -> (Win 10) | D19: 1,022 | E19: 1000 | F19: 1.02 | G19: 520 | H19: 90.2 | I19: 0-1 hour | J19: 2.7 | K19: =IF(I19="0-1 hour", 0.5, 1.5) -> 0.5 | L19: 8
B20: ACA NEOGEO THE KING OF FIGHTERS '99 (Win 10) | C20: =RIGHT(B20,8) -> (Win 10) | D20: 1,022 | E20: 1000 | F20: 1.02 | G20: 338 | H20: 89.1 | I20: 0-1 hour | J20: 2.7 | K20: =IF(I20="0-1 hour", 0.5, 1.5) -> 0.5 | L20: 8
B21: ACA NEOGEO PLEASURE GOAL: 5 ON 5 MINI SOCCER (Win 10) | C21: =RIGHT(B21,8) -> (Win 10) | D21: 1,023 | E21: 1000 | F21: 1.02 | G21: 245 | H21: 90.2 | I21: 0-1 hour | J21: 2.5 | K21: =IF(I21="0-1 hour", 0.5, 1.5) -> 0.5 | L21: 8
... B120: 50 Years (Win 10) | C120: =RIGHT(B120,8) -> (Win 10) | D120: 2,277 | E120: 2000 | F120: 1.14 | G120: 903 | H120: 60.2 | I120: 0-1 hour | J120: 3 | K120: =IF(I120="0-1 hour", 0.5, 1.5) -> 0.5 | L120: 8
B122: Disney Fairies Hidden Treasures (Win 8) | C122: =RIGHT(B122,8) -> (Win 8) | D122: 1,189 | E122: 1,000 | F122: 1.19 | G122: 2023 | H122: 31 | I122: 1-2 hours | J122: 3
B124: MONOPOLY Plus (Xbox 360) | D124: 1161 | E124: 1000 | F124: 1.16 | G124: 13856 | H124: 48.5 | I124: 1-2 hours | J124: 3.2
B125: The Walking Dead: Michonne (Xbox 360) | D125: 1026 | E125: 1000 | F125: 1.03 | G125: 5808 | H125: 87.1 | I125: 1-2 hours | J125: 3.7
B126: Batman: The Telltale Series (Xbox 360) | D126: 1217 | E126: 1000 | F126: 1.22 | G126: 7491 | H126: 38.4 | I126: 1-2 hours | J126: 3.7
B128: Your Toy (CN) | D128: 1085 | E128: 1000 | F128: 1.08 | G128: 129 | H128: 76 | I128: 1-2 hours | J128: 2.2
B129: DYING : Reborn (CN) | D129: 1050 | E129: 1000 | F129: 1.05 | G129: 119 | H129: 83.2 | I129: 1-2 hours | J129: 2.8
B130: Mr. Pumpkin Adventure (CN) | D130: 1043 | E130: 1000 | F130: 1.04 | G130: 170 | H130: 86.5 | I130: 0-1 hour | J130: 3.4
B132: Munchkin: Quacked Quest | D132: 4131 | E132: 1000 | F132: 4.13 | G132: 8374 | H132: 0 | I132: 0-1 hour | J132: 2 | K132: UNACHIEVABLE
